Package: EGSEA Version: 1.34.0 Command: /home/biocbuild/R/R/bin/R CMD INSTALL EGSEA StartedAt: 2025-02-03 21:15:53 -0000 (Mon, 03 Feb 2025) EndedAt: 2025-02-03 21:17:02 -0000 (Mon, 03 Feb 2025) EllapsedTime: 69.5 seconds RetCode: 0 Status: OK