Package: ELMER Version: 2.30.0 Command: rm -rf ELMER.buildbin-libdir && mkdir ELMER.buildbin-libdir && /Users/biocbuild/BBS/utils/build-universal.sh ELMER_2.30.0.tar.gz /Library/Frameworks/R.framework/Resources/bin/R ELMER.buildbin-libdir StartedAt: 2024-11-09 16:47:47 -0500 (Sat, 09 Nov 2024) EndedAt: 2024-11-09 16:48:14 -0500 (Sat, 09 Nov 2024) EllapsedTime: 26.4 seconds RetCode: 0 Status: OK PackageFile: ELMER_2.30.0.tgz PackageFileSize: 39.62 MiB