############################################################################## ############################################################################## ### ### Running command: ### ### /home/biocbuild/R/R/bin/R CMD check --install=check:ELMER.install-out.txt --library=/home/biocbuild/R/R/site-library --no-vignettes --timings ELMER_2.30.0.tar.gz ### ############################################################################## ############################################################################## * using log directory ‘/home/biocbuild/bbs-3.20-bioc/meat/ELMER.Rcheck’ * using R version 4.4.2 (2024-10-31) * using platform: aarch64-unknown-linux-gnu * R was compiled by aarch64-unknown-linux-gnu-gcc (GCC) 14.2.0 GNU Fortran (GCC) 12.3.1 (openEuler 12.3.1-36.oe2403) * running under: openEuler 24.03 (LTS) * using session charset: UTF-8 * using option ‘--no-vignettes’ * checking for file ‘ELMER/DESCRIPTION’ ... OK * this is package ‘ELMER’ version ‘2.30.0’ * package encoding: UTF-8 * checking package namespace information ... OK * checking package dependencies ... OK * checking if this is a source package ... OK * checking if there is a namespace ... OK * checking for hidden files and directories ... OK * checking for portable file names ... OK * checking for sufficient/correct file permissions ... OK * checking whether package ‘ELMER’ can be installed ... OK * checking installed package size ... OK * checking package directory ... OK * checking ‘build’ directory ... OK * checking DESCRIPTION meta-information ... OK * checking top-level files ... OK * checking for left-over files ... OK * checking index information ... OK * checking package subdirectories ... OK * checking code files for non-ASCII characters ... OK * checking R files for syntax errors ... OK * checking whether the package can be loaded ... OK * checking whether the package can be loaded with stated dependencies ... OK * checking whether the package can be unloaded cleanly ... OK * checking whether the namespace can be loaded with stated dependencies ... OK * checking whether the namespace can be unloaded cleanly ... OK * checking loading without being on the library search path ... OK * checking dependencies in R code ... OK * checking S3 generic/method consistency ... OK * checking replacement functions ... OK * checking foreign function calls ... OK * checking R code for possible problems ... NOTE addMutCol: no visible binding for global variable 'Hugo_Symbol' calcDistNearestTSS: no visible binding for global variable 'DistanceTSS' getRegionNearGenes : f: no visible binding for global variable 'Side' getRegionNearGenes: no visible binding for global variable 'ID' getTFtargets: no visible binding for global variable 'TF' Undefined global functions or variables: DistanceTSS Hugo_Symbol ID Side TF * checking Rd files ... NOTE checkRd: (-1) createBigWigDNAmetArray.Rd:22: Lost braces; missing escapes or markup? 22 | \item{track.names}{Provide a list of track names (.bw) otherwise the deault is the will be {samples}.bw} | ^ * checking Rd metadata ... OK * checking Rd cross-references ... OK * checking for missing documentation entries ... OK * checking for code/documentation mismatches ... OK * checking Rd \usage sections ... OK * checking Rd contents ... OK * checking for unstated dependencies in examples ... OK * checking files in ‘vignettes’ ... OK * checking examples ... OK Examples with CPU (user + system) or elapsed time > 5s user system elapsed TCGA.pipe 93.540 2.756 112.897 getRandomPairs 28.710 1.578 35.978 schematic.plot 27.937 1.641 48.380 createMAE 24.338 1.501 36.177 scatter.plot 19.754 0.413 20.322 get.enriched.motif 18.647 0.845 29.165 get.feature.probe 13.382 0.682 17.524 GetNearGenes 12.103 0.127 12.270 get.pair 11.725 0.310 12.080 getRegionNearGenes 8.399 0.208 8.637 preAssociationProbeFiltering 7.787 0.457 11.371 getTCGA 2.948 0.235 20.238 * checking for unstated dependencies in ‘tests’ ... OK * checking tests ... Running ‘testthat.R’ OK * checking for unstated dependencies in vignettes ... OK * checking package vignettes ... OK * checking running R code from vignettes ... SKIPPED * checking re-building of vignette outputs ... SKIPPED * checking PDF version of manual ... OK * DONE Status: 2 NOTEs See ‘/home/biocbuild/bbs-3.20-bioc/meat/ELMER.Rcheck/00check.log’ for details.