Package: ELMER Version: 2.30.0 Command: /home/biocbuild/R/R/bin/R CMD check --install=check:ELMER.install-out.txt --library=/home/biocbuild/R/R/site-library --no-vignettes --timings ELMER_2.30.0.tar.gz StartedAt: 2025-02-04 06:41:54 -0000 (Tue, 04 Feb 2025) EndedAt: 2025-02-04 07:01:07 -0000 (Tue, 04 Feb 2025) EllapsedTime: 1152.8 seconds RetCode: 0 Status: OK CheckDir: ELMER.Rcheck Warnings: 0