Package: ELMER Version: 2.30.0 Command: /home/biocbuild/R/R/bin/R CMD INSTALL ELMER StartedAt: 2025-02-17 21:15:57 -0000 (Mon, 17 Feb 2025) EndedAt: 2025-02-17 21:17:07 -0000 (Mon, 17 Feb 2025) EllapsedTime: 70.5 seconds RetCode: 0 Status: OK