Package: EMDomics Version: 2.36.0 Command: /Library/Frameworks/R.framework/Resources/bin/R CMD build --keep-empty-dirs --no-resave-data EMDomics StartedAt: 2025-02-03 23:03:36 -0500 (Mon, 03 Feb 2025) EndedAt: 2025-02-03 23:03:53 -0500 (Mon, 03 Feb 2025) EllapsedTime: 17.0 seconds RetCode: 0 Status: OK PackageFile: EMDomics_2.36.0.tar.gz PackageFileSize: 329 KiB