Package: EMDomics
Version: 2.36.0
Command: rm -rf EMDomics.buildbin-libdir && mkdir EMDomics.buildbin-libdir && /Users/biocbuild/BBS/utils/build-universal.sh EMDomics_2.36.0.tar.gz /Library/Frameworks/R.framework/Resources/bin/R EMDomics.buildbin-libdir
StartedAt: 2024-11-09 16:47:49 -0500 (Sat, 09 Nov 2024)
EndedAt: 2024-11-09 16:47:51 -0500 (Sat, 09 Nov 2024)
EllapsedTime: 2.0 seconds
RetCode: 0
Status: OK
PackageFile: EMDomics_2.36.0.tgz
PackageFileSize: 423.7 <A href="http://en.wikipedia.org/wiki/KiB" target="_blank">KiB</A>