Package: EMDomics Version: 2.36.0 Command: /home/biocbuild/R/R/bin/R CMD build --keep-empty-dirs --no-resave-data EMDomics StartedAt: 2024-11-20 00:28:42 -0000 (Wed, 20 Nov 2024) EndedAt: 2024-11-20 00:29:01 -0000 (Wed, 20 Nov 2024) EllapsedTime: 19.0 seconds RetCode: 0 Status: OK PackageFile: EMDomics_2.36.0.tar.gz PackageFileSize: 125.9 KiB