Package: EMDomics Version: 2.36.0 Command: chmod a+r EMDomics -R && F:\biocbuild\bbs-3.20-bioc\R\bin\R.exe CMD build --keep-empty-dirs --no-resave-data EMDomics StartedAt: 2025-02-17 18:37:10 -0500 (Mon, 17 Feb 2025) EndedAt: 2025-02-17 18:37:34 -0500 (Mon, 17 Feb 2025) EllapsedTime: 23.1 seconds RetCode: 0 Status: OK PackageFile: EMDomics_2.36.0.tar.gz PackageFileSize: 87.63 <A href="http://en.wikipedia.org/wiki/KiB" target="_blank">KiB</A>