Package: EmpiricalBrownsMethod Version: 1.34.0 Command: /Library/Frameworks/R.framework/Resources/bin/R CMD INSTALL EmpiricalBrownsMethod StartedAt: 2025-01-30 15:06:24 -0500 (Thu, 30 Jan 2025) EndedAt: 2025-01-30 15:06:34 -0500 (Thu, 30 Jan 2025) EllapsedTime: 9.9 seconds RetCode: 0 Status: OK