Package: EmpiricalBrownsMethod Version: 1.34.0 Command: chmod a+r EmpiricalBrownsMethod -R && F:\biocbuild\bbs-3.20-bioc\R\bin\R.exe CMD build --keep-empty-dirs --no-resave-data EmpiricalBrownsMethod StartedAt: 2025-01-30 18:35:53 -0500 (Thu, 30 Jan 2025) EndedAt: 2025-01-30 18:36:02 -0500 (Thu, 30 Jan 2025) EllapsedTime: 9.5 seconds RetCode: 0 Status: OK PackageFile: EmpiricalBrownsMethod_1.34.0.tar.gz PackageFileSize: 38.73 KiB