Package: EmpiricalBrownsMethod Version: 1.34.0 Command: F:\biocbuild\bbs-3.20-bioc\R\bin\R.exe CMD check --no-multiarch --install=check:EmpiricalBrownsMethod.install-out.txt --library=F:\biocbuild\bbs-3.20-bioc\R\library --no-vignettes --timings EmpiricalBrownsMethod_1.34.0.tar.gz StartedAt: 2025-01-31 01:43:35 -0500 (Fri, 31 Jan 2025) EndedAt: 2025-01-31 01:44:02 -0500 (Fri, 31 Jan 2025) EllapsedTime: 27.6 seconds RetCode: 0 Status: OK CheckDir: EmpiricalBrownsMethod.Rcheck Warnings: 0