Package: EmpiricalBrownsMethod Version: 1.34.0 Command: F:\biocbuild\bbs-3.20-bioc\R\bin\R.exe CMD INSTALL EmpiricalBrownsMethod StartedAt: 2025-01-30 15:18:49 -0500 (Thu, 30 Jan 2025) EndedAt: 2025-01-30 15:19:26 -0500 (Thu, 30 Jan 2025) EllapsedTime: 37.2 seconds RetCode: 0 Status: OK