Package: EnMCB Version: 1.18.0 Command: rm -rf EnMCB.buildbin-libdir && mkdir EnMCB.buildbin-libdir && /Users/biocbuild/BBS/utils/build-universal.sh EnMCB_1.18.0.tar.gz /Library/Frameworks/R.framework/Resources/bin/R EnMCB.buildbin-libdir StartedAt: 2025-02-01 14:47:32 -0500 (Sat, 01 Feb 2025) EndedAt: 2025-02-01 14:47:47 -0500 (Sat, 01 Feb 2025) EllapsedTime: 14.9 seconds RetCode: 0 Status: OK PackageFile: EnMCB_1.18.0.tgz PackageFileSize: 5.081 MiB