Package: EnMCB Version: 1.18.0 Command: /Library/Frameworks/R.framework/Resources/bin/R CMD build --keep-empty-dirs --no-resave-data EnMCB StartedAt: 2025-01-30 23:10:09 -0500 (Thu, 30 Jan 2025) EndedAt: 2025-01-30 23:11:10 -0500 (Thu, 30 Jan 2025) EllapsedTime: 61.0 seconds RetCode: 0 Status: OK PackageFile: EnMCB_1.18.0.tar.gz PackageFileSize: 4.929 MiB