Package: EnMCB Version: 1.18.0 Command: /Library/Frameworks/R.framework/Resources/bin/R CMD check --install=check:EnMCB.install-out.txt --library=/Library/Frameworks/R.framework/Resources/library --no-vignettes --timings EnMCB_1.18.0.tar.gz StartedAt: 2025-01-31 18:27:12 -0500 (Fri, 31 Jan 2025) EndedAt: 2025-01-31 18:30:28 -0500 (Fri, 31 Jan 2025) EllapsedTime: 196.0 seconds RetCode: 0 Status: OK CheckDir: EnMCB.Rcheck Warnings: 0