Package: EnMCB Version: 1.18.0 Command: /Library/Frameworks/R.framework/Resources/bin/R CMD INSTALL EnMCB StartedAt: 2025-01-30 17:27:55 -0500 (Thu, 30 Jan 2025) EndedAt: 2025-01-30 17:28:14 -0500 (Thu, 30 Jan 2025) EllapsedTime: 18.9 seconds RetCode: 0 Status: OK