Package: EnMCB Version: 1.18.0 Command: rm -rf EnMCB.buildbin-libdir && mkdir EnMCB.buildbin-libdir && /Users/biocbuild/BBS/utils/build-universal.sh EnMCB_1.18.0.tar.gz /Library/Frameworks/R.framework/Resources/bin/R EnMCB.buildbin-libdir StartedAt: 2025-01-31 12:44:56 -0500 (Fri, 31 Jan 2025) EndedAt: 2025-01-31 12:45:24 -0500 (Fri, 31 Jan 2025) EllapsedTime: 28.2 seconds RetCode: 0 Status: OK PackageFile: EnMCB_1.18.0.tgz PackageFileSize: 5.081 MiB