Package: EnMCB Version: 1.18.0 Command: /Library/Frameworks/R.framework/Resources/bin/R CMD INSTALL EnMCB StartedAt: 2025-01-30 16:21:12 -0500 (Thu, 30 Jan 2025) EndedAt: 2025-01-30 16:21:44 -0500 (Thu, 30 Jan 2025) EllapsedTime: 32.2 seconds RetCode: 0 Status: OK