Package: EnMCB Version: 1.18.0 Command: /home/biocbuild/bbs-3.20-bioc/R/bin/R CMD build --keep-empty-dirs --no-resave-data --md5 EnMCB StartedAt: 2025-01-30 17:08:34 -0500 (Thu, 30 Jan 2025) EndedAt: 2025-01-30 17:09:11 -0500 (Thu, 30 Jan 2025) EllapsedTime: 37.0 seconds RetCode: 0 Status: OK PackageFile: EnMCB_1.18.0.tar.gz PackageFileSize: 4.93 MiB