Package: EnMCB Version: 1.18.0 Command: rm -rf EnMCB.buildbin-libdir && mkdir EnMCB.buildbin-libdir && F:\biocbuild\bbs-3.20-bioc\R\bin\R.exe CMD INSTALL --build --library=EnMCB.buildbin-libdir EnMCB_1.18.0.tar.gz StartedAt: 2025-01-31 08:36:03 -0500 (Fri, 31 Jan 2025) EndedAt: 2025-01-31 08:36:32 -0500 (Fri, 31 Jan 2025) EllapsedTime: 29.0 seconds RetCode: 0 Status: OK PackageFile: EnMCB_1.18.0.zip PackageFileSize: 5.086 MiB