Package: EnMCB Version: 1.18.0 Command: /home/biocbuild/R/R/bin/R CMD build --keep-empty-dirs --no-resave-data EnMCB StartedAt: 2025-01-30 23:22:48 -0000 (Thu, 30 Jan 2025) EndedAt: 2025-01-30 23:23:38 -0000 (Thu, 30 Jan 2025) EllapsedTime: 50.0 seconds RetCode: 0 Status: OK PackageFile: EnMCB_1.18.0.tar.gz PackageFileSize: 4.929 MiB