Package: EnMCB Version: 1.18.0 Command: /home/biocbuild/R/R/bin/R CMD INSTALL EnMCB StartedAt: 2025-01-30 20:53:30 -0000 (Thu, 30 Jan 2025) EndedAt: 2025-01-30 20:53:47 -0000 (Thu, 30 Jan 2025) EllapsedTime: 16.7 seconds RetCode: 0 Status: OK