Package: EnhancedVolcano Version: 1.24.0 Command: /Library/Frameworks/R.framework/Resources/bin/R CMD build --keep-empty-dirs --no-resave-data EnhancedVolcano StartedAt: 2025-02-03 23:03:58 -0500 (Mon, 03 Feb 2025) EndedAt: 2025-02-03 23:05:50 -0500 (Mon, 03 Feb 2025) EllapsedTime: 111.4 seconds RetCode: 0 Status: OK PackageFile: EnhancedVolcano_1.24.0.tar.gz PackageFileSize: 9.939 MiB