Package: EnhancedVolcano Version: 1.24.0 Command: /home/biocbuild/bbs-3.20-bioc/R/bin/R CMD check --install=check:EnhancedVolcano.install-out.txt --library=/home/biocbuild/bbs-3.20-bioc/R/site-library --timings EnhancedVolcano_1.24.0.tar.gz StartedAt: 2025-02-03 22:05:16 -0500 (Mon, 03 Feb 2025) EndedAt: 2025-02-03 22:07:30 -0500 (Mon, 03 Feb 2025) EllapsedTime: 134.1 seconds RetCode: 0 Status: OK CheckDir: EnhancedVolcano.Rcheck Warnings: 0