Package: EnhancedVolcano Version: 1.24.0 Command: /home/biocbuild/R/R/bin/R CMD check --install=check:EnhancedVolcano.install-out.txt --library=/home/biocbuild/R/R/site-library --no-vignettes --timings EnhancedVolcano_1.24.0.tar.gz StartedAt: 2025-02-04 06:42:45 -0000 (Tue, 04 Feb 2025) EndedAt: 2025-02-04 06:43:47 -0000 (Tue, 04 Feb 2025) EllapsedTime: 61.1 seconds RetCode: 0 Status: OK CheckDir: EnhancedVolcano.Rcheck Warnings: 0