Package: EnhancedVolcano
Version: 1.24.0
Command: /home/biocbuild/bbs-3.20-bioc/R/bin/R CMD check --install=check:EnhancedVolcano.install-out.txt --library=/home/biocbuild/bbs-3.20-bioc/R/site-library --timings EnhancedVolcano_1.24.0.tar.gz
StartedAt: 2024-11-20 02:22:04 -0500 (Wed, 20 Nov 2024)
EndedAt: 2024-11-20 02:24:15 -0500 (Wed, 20 Nov 2024)
EllapsedTime: 130.9 seconds
RetCode: 0
Status: OK
CheckDir: EnhancedVolcano.Rcheck
Warnings: 0