Package: EnrichDO Version: 1.0.0 Command: /Library/Frameworks/R.framework/Resources/bin/R CMD build --keep-empty-dirs --no-resave-data EnrichDO StartedAt: 2025-02-03 23:06:37 -0500 (Mon, 03 Feb 2025) EndedAt: 2025-02-03 23:09:00 -0500 (Mon, 03 Feb 2025) EllapsedTime: 143.1 seconds RetCode: 1 Status: ERROR PackageFile: None PackageFileSize: NA