Package: EnrichDO
Version: 1.0.0
Command: /Library/Frameworks/R.framework/Resources/bin/R CMD build --keep-empty-dirs --no-resave-data EnrichDO
StartedAt: 2024-11-19 16:43:49 -0500 (Tue, 19 Nov 2024)
EndedAt: 2024-11-19 16:45:45 -0500 (Tue, 19 Nov 2024)
EllapsedTime: 116.3 seconds
RetCode: 1
Status: ERROR
PackageFile: None
PackageFileSize: NA