Package: EnrichDO Version: 1.0.0 Command: /home/biocbuild/bbs-3.20-bioc/R/bin/R CMD build --keep-empty-dirs --no-resave-data --md5 EnrichDO StartedAt: 2025-02-03 17:18:13 -0500 (Mon, 03 Feb 2025) EndedAt: 2025-02-03 17:19:46 -0500 (Mon, 03 Feb 2025) EllapsedTime: 93.1 seconds RetCode: 0 Status: OK PackageFile: EnrichDO_1.0.0.tar.gz PackageFileSize: 2.526 MiB