Package: EnrichDO Version: 1.0.0 Command: F:\biocbuild\bbs-3.20-bioc\R\bin\R.exe CMD check --no-multiarch --install=check:EnrichDO.install-out.txt --library=F:\biocbuild\bbs-3.20-bioc\R\library --no-vignettes --timings EnrichDO_1.0.0.tar.gz StartedAt: 2025-02-04 01:32:46 -0500 (Tue, 04 Feb 2025) EndedAt: 2025-02-04 01:39:32 -0500 (Tue, 04 Feb 2025) EllapsedTime: 405.2 seconds RetCode: 0 Status: OK CheckDir: EnrichDO.Rcheck Warnings: 0