Package: EnrichDO Version: 1.0.0 Command: /home/biocbuild/R/R/bin/R CMD build --keep-empty-dirs --no-resave-data EnrichDO StartedAt: 2025-02-03 23:22:57 -0000 (Mon, 03 Feb 2025) EndedAt: 2025-02-03 23:25:01 -0000 (Mon, 03 Feb 2025) EllapsedTime: 124.1 seconds RetCode: 0 Status: OK PackageFile: EnrichDO_1.0.0.tar.gz PackageFileSize: 2.13 MiB