Package: EnrichmentBrowser Version: 2.36.0 Command: rm -rf EnrichmentBrowser.buildbin-libdir && mkdir EnrichmentBrowser.buildbin-libdir && /Users/biocbuild/BBS/utils/build-universal.sh EnrichmentBrowser_2.36.0.tar.gz /Library/Frameworks/R.framework/Resources/bin/R EnrichmentBrowser.buildbin-libdir StartedAt: 2025-02-05 15:43:31 -0500 (Wed, 05 Feb 2025) EndedAt: 2025-02-05 15:44:13 -0500 (Wed, 05 Feb 2025) EllapsedTime: 42.5 seconds RetCode: 0 Status: OK PackageFile: EnrichmentBrowser_2.36.0.tgz PackageFileSize: 1.864 MiB