Package: EnrichmentBrowser Version: 2.36.0 Command: /Library/Frameworks/R.framework/Resources/bin/R CMD build --keep-empty-dirs --no-resave-data EnrichmentBrowser StartedAt: 2025-02-03 23:08:32 -0500 (Mon, 03 Feb 2025) EndedAt: 2025-02-03 23:11:04 -0500 (Mon, 03 Feb 2025) EllapsedTime: 152.3 seconds RetCode: 0 Status: OK PackageFile: EnrichmentBrowser_2.36.0.tar.gz PackageFileSize: 1.662 MiB