Package: EnrichmentBrowser
Version: 2.36.0
Command: /Library/Frameworks/R.framework/Resources/bin/R CMD check --install=check:EnrichmentBrowser.install-out.txt --library=/Library/Frameworks/R.framework/Resources/library --no-vignettes --timings EnrichmentBrowser_2.36.0.tar.gz
StartedAt: 2024-11-19 21:47:22 -0500 (Tue, 19 Nov 2024)
EndedAt: 2024-11-19 21:56:29 -0500 (Tue, 19 Nov 2024)
EllapsedTime: 547.2 seconds
RetCode: 0
Status: OK
CheckDir: EnrichmentBrowser.Rcheck
Warnings: 0