Package: EnrichmentBrowser Version: 2.36.0 Command: /Library/Frameworks/R.framework/Resources/bin/R CMD INSTALL EnrichmentBrowser StartedAt: 2025-02-03 15:43:32 -0500 (Mon, 03 Feb 2025) EndedAt: 2025-02-03 15:44:43 -0500 (Mon, 03 Feb 2025) EllapsedTime: 70.6 seconds RetCode: 0 Status: OK