Package: EnrichmentBrowser Version: 2.36.0 Command: /home/biocbuild/bbs-3.20-bioc/R/bin/R CMD build --keep-empty-dirs --no-resave-data --md5 EnrichmentBrowser StartedAt: 2025-02-03 17:18:30 -0500 (Mon, 03 Feb 2025) EndedAt: 2025-02-03 17:20:23 -0500 (Mon, 03 Feb 2025) EllapsedTime: 113.1 seconds RetCode: 0 Status: OK PackageFile: EnrichmentBrowser_2.36.0.tar.gz PackageFileSize: 1.316 MiB