Package: EnrichmentBrowser
Version: 2.35.1
Command: F:\biocbuild\bbs-3.20-bioc\R\bin\R.exe CMD check --no-multiarch --install=check:EnrichmentBrowser.install-out.txt --library=F:\biocbuild\bbs-3.20-bioc\R\library --no-vignettes --timings EnrichmentBrowser_2.35.1.tar.gz
StartedAt: 2024-06-10 02:20:36 -0400 (Mon, 10 Jun 2024)
EndedAt: 2024-06-10 02:29:13 -0400 (Mon, 10 Jun 2024)
EllapsedTime: 517.5 seconds
RetCode: 0
Status: OK
CheckDir: EnrichmentBrowser.Rcheck
Warnings: 0