Package: EnrichmentBrowser Version: 2.36.0 Command: rm -rf EnrichmentBrowser.buildbin-libdir && mkdir EnrichmentBrowser.buildbin-libdir && F:\biocbuild\bbs-3.20-bioc\R\bin\R.exe CMD INSTALL --build --library=EnrichmentBrowser.buildbin-libdir EnrichmentBrowser_2.36.0.tar.gz StartedAt: 2025-02-18 08:03:41 -0500 (Tue, 18 Feb 2025) EndedAt: 2025-02-18 08:07:55 -0500 (Tue, 18 Feb 2025) EllapsedTime: 254.0 seconds RetCode: 0 Status: OK PackageFile: EnrichmentBrowser_2.36.0.zip PackageFileSize: 1.47 <A href="http://en.wikipedia.org/wiki/MiB" target="_blank">MiB</A>