Package: EpiCompare Version: 1.10.0 Command: /Library/Frameworks/R.framework/Resources/bin/R CMD build --keep-empty-dirs --no-resave-data EpiCompare StartedAt: 2025-02-03 23:11:17 -0500 (Mon, 03 Feb 2025) EndedAt: 2025-02-03 23:12:42 -0500 (Mon, 03 Feb 2025) EllapsedTime: 84.6 seconds RetCode: 0 Status: OK PackageFile: EpiCompare_1.10.0.tar.gz PackageFileSize: 1.871 MiB