Package: EpiCompare Version: 1.10.0 Command: /Library/Frameworks/R.framework/Resources/bin/R CMD INSTALL EpiCompare StartedAt: 2025-02-03 17:10:06 -0500 (Mon, 03 Feb 2025) EndedAt: 2025-02-03 17:11:01 -0500 (Mon, 03 Feb 2025) EllapsedTime: 55.0 seconds RetCode: 0 Status: OK