Package: EpiCompare Version: 1.10.1 Command: chmod a+r EpiCompare -R && F:\biocbuild\bbs-3.20-bioc\R\bin\R.exe CMD build --keep-empty-dirs --no-resave-data EpiCompare StartedAt: 2025-02-17 18:39:10 -0500 (Mon, 17 Feb 2025) EndedAt: 2025-02-17 18:40:59 -0500 (Mon, 17 Feb 2025) EllapsedTime: 109.0 seconds RetCode: 0 Status: OK PackageFile: EpiCompare_1.10.1.tar.gz PackageFileSize: 1.871 <A href="http://en.wikipedia.org/wiki/MiB" target="_blank">MiB</A>