Package: EpiMix Version: 1.8.0 Command: rm -rf EpiMix.buildbin-libdir && mkdir EpiMix.buildbin-libdir && /Users/biocbuild/BBS/utils/build-universal.sh EpiMix_1.8.0.tar.gz /Library/Frameworks/R.framework/Resources/bin/R EpiMix.buildbin-libdir StartedAt: 2025-02-01 14:49:31 -0500 (Sat, 01 Feb 2025) EndedAt: 2025-02-01 14:50:25 -0500 (Sat, 01 Feb 2025) EllapsedTime: 54.1 seconds RetCode: 0 Status: OK PackageFile: EpiMix_1.8.0.tgz PackageFileSize: 2.353 MiB