Package: EpiMix Version: 1.8.0 Command: /Library/Frameworks/R.framework/Resources/bin/R CMD INSTALL EpiMix StartedAt: 2025-01-30 17:07:40 -0500 (Thu, 30 Jan 2025) EndedAt: 2025-01-30 17:08:30 -0500 (Thu, 30 Jan 2025) EllapsedTime: 50.5 seconds RetCode: 0 Status: OK