Package: EpiMix Version: 1.8.0 Command: rm -rf EpiMix.buildbin-libdir && mkdir EpiMix.buildbin-libdir && F:\biocbuild\bbs-3.20-bioc\R\bin\R.exe CMD INSTALL --build --library=EpiMix.buildbin-libdir EpiMix_1.8.0.tar.gz StartedAt: 2025-01-31 08:36:56 -0500 (Fri, 31 Jan 2025) EndedAt: 2025-01-31 08:38:13 -0500 (Fri, 31 Jan 2025) EllapsedTime: 76.9 seconds RetCode: 0 Status: OK PackageFile: EpiMix_1.8.0.zip PackageFileSize: 1.918 MiB