Package: EpiTxDb Version: 1.18.0 Command: rm -rf EpiTxDb.buildbin-libdir && mkdir EpiTxDb.buildbin-libdir && /Users/biocbuild/BBS/utils/build-universal.sh EpiTxDb_1.18.0.tar.gz /Library/Frameworks/R.framework/Resources/bin/R EpiTxDb.buildbin-libdir StartedAt: 2025-02-05 15:46:16 -0500 (Wed, 05 Feb 2025) EndedAt: 2025-02-05 15:47:11 -0500 (Wed, 05 Feb 2025) EllapsedTime: 55.2 seconds RetCode: 0 Status: OK PackageFile: EpiTxDb_1.18.0.tgz PackageFileSize: 1.695 MiB