Package: EpiTxDb Version: 1.18.0 Command: /Library/Frameworks/R.framework/Resources/bin/R CMD build --keep-empty-dirs --no-resave-data EpiTxDb StartedAt: 2025-02-03 23:20:47 -0500 (Mon, 03 Feb 2025) EndedAt: 2025-02-03 23:24:17 -0500 (Mon, 03 Feb 2025) EllapsedTime: 209.8 seconds RetCode: 0 Status: OK PackageFile: EpiTxDb_1.18.0.tar.gz PackageFileSize: 778.2 KiB