Package: EpiTxDb Version: 1.18.0 Command: /Library/Frameworks/R.framework/Resources/bin/R CMD check --install=check:EpiTxDb.install-out.txt --library=/Library/Frameworks/R.framework/Resources/library --no-vignettes --timings EpiTxDb_1.18.0.tar.gz StartedAt: 2025-02-04 19:18:28 -0500 (Tue, 04 Feb 2025) EndedAt: 2025-02-04 19:24:11 -0500 (Tue, 04 Feb 2025) EllapsedTime: 342.5 seconds RetCode: 0 Status: WARNINGS CheckDir: EpiTxDb.Rcheck Warnings: 1