Package: EpiTxDb Version: 1.18.0 Command: /Library/Frameworks/R.framework/Resources/bin/R CMD INSTALL EpiTxDb StartedAt: 2025-02-03 16:25:35 -0500 (Mon, 03 Feb 2025) EndedAt: 2025-02-03 16:26:25 -0500 (Mon, 03 Feb 2025) EllapsedTime: 49.8 seconds RetCode: 0 Status: OK