Package: EpiTxDb Version: 1.18.0 Command: rm -rf EpiTxDb.buildbin-libdir && mkdir EpiTxDb.buildbin-libdir && F:\biocbuild\bbs-3.20-bioc\R\bin\R.exe CMD INSTALL --build --library=EpiTxDb.buildbin-libdir EpiTxDb_1.18.0.tar.gz StartedAt: 2025-02-04 08:27:27 -0500 (Tue, 04 Feb 2025) EndedAt: 2025-02-04 08:29:04 -0500 (Tue, 04 Feb 2025) EllapsedTime: 96.6 seconds RetCode: 0 Status: OK PackageFile: EpiTxDb_1.18.0.zip PackageFileSize: 1.613 MiB